BEGIN:VCALENDAR
VERSION:2.0
PRODID:-//ChamberMaster//Event Calendar 2.0//EN
METHOD:PUBLISH
X-PUBLISHED-TTL:P3D
REFRESH-INTERVAL:P3D
CALSCALE:GREGORIAN
BEGIN:VEVENT
DTSTART:20200921T170000Z
DTEND:20200921T180000Z
X-MICROSOFT-CDO-ALLDAYEVENT:FALSE
SUMMARY:WEBINAR: Small Business Workshop Series- Business Financial Statements
DESCRIPTION:The Chamber has partnered with BBVA to offer a 5 part series of Virtual Small Business Workshops available to area small businesses. These will be held on Mondays starting August 17th through September 21st at 12 P.M..\n\n\n\nTopic\n\nBusiness Financial Statements: In this workshop\, business owners will learn the three most important financial documents: balance sheets\, profit and loss statements\, and cash flow reports. At the end of the workshop\, business owners will be able to prepare or work with a professional to prepare these documents for their businesses.\n\n\n\nWebinar Access Information\n\nGoogle Meet & BBVA Portal Links will both be sent morning of workshop
X-ALT-DESC;FMTTYPE=text/html:<span style="font-size:16px\;"><span style="font-family:arial\;">The Chamber has partnered with BBVA to offer a 5 part series of Virtual Small Business Workshops available to area small businesses. These will be held on Mondays starting August 17th through September 21st at 12 P.M..</span></span><br />\n<br />\n<span style="font-size:16px\;"><span style="font-family:arial\;"><strong><u><span style="font-size:18px\;">Topic</span></u></strong></span></span><br />\n<strong style="font-family: arial\; font-size: 16px\;">Business Financial Statements:&nbsp\;</strong><span style="font-family: arial\; font-size: 16px\;">In this workshop\, business owners will learn the three most important financial documents: balance sheets\, profit and loss statements\, and cash flow reports. At the end of the workshop\, business owners will be able to prepare or work with a professional to prepare these documents for their businesses.</span><br />\n<br />\n<u style="box-sizing: border-box\; margin: 0px\; padding: 0px\; border: 0px\; font-variant-numeric: inherit\; font-variant-east-asian: inherit\; font-stretch: inherit\; font-size: 16px\; line-height: inherit\; font-family: arial\; vertical-align: baseline\; color: rgb(43\, 39\, 44)\;"><span style="box-sizing: border-box\; margin: 0px\; padding: 0px\; border: 0px\; font-style: inherit\; font-variant: inherit\; font-weight: bolder\; font-stretch: inherit\; font-size: inherit\; line-height: inherit\; font-family: inherit\; vertical-align: baseline\;"><span style="box-sizing: border-box\; margin: 0px\; padding: 0px\; border: 0px\; font: inherit\; vertical-align: baseline\; background-color: rgb(255\, 255\, 0)\;">Webinar Access Information</span></span></u><br style="box-sizing: border-box\; color: rgb(43\, 39\, 44)\; font-family: arial\; font-size: 16px\;" />\n<span style="box-sizing: border-box\; margin: 0px\; padding: 0px\; border: 0px\; font-variant-numeric: inherit\; font-variant-east-asian: inherit\; font-weight: bolder\; font-stretch: inherit\; font-size: 16px\; line-height: inherit\; font-family: arial\; vertical-align: baseline\; outline: 0px\; color: rgb(43\, 39\, 44)\;"><span style="box-sizing: border-box\; margin: 0px\; padding: 0px\; border: 0px\; font: inherit\; vertical-align: baseline\; outline: 0px\; background-color: rgb(255\, 255\, 0)\;">Google Meet &amp\; BBVA Portal Links will both be sent morning of workshop</span></span>
LOCATION:Online Only(via Google Meet & BBVA Portal)
UID:e.1432.403253
SEQUENCE:3
DTSTAMP:20260419T154503Z
URL:http://business.etowahchamber.org/events/details/webinar-small-business-workshop-series-business-financial-statements-09-21-2020-403253
END:VEVENT

END:VCALENDAR
