BEGIN:VCALENDAR
VERSION:2.0
PRODID:-//ChamberMaster//Event Calendar 2.0//EN
METHOD:PUBLISH
X-PUBLISHED-TTL:P3D
REFRESH-INTERVAL:P3D
CALSCALE:GREGORIAN
BEGIN:VEVENT
DTSTART:20200323T150000Z
DTEND:20200324T040000Z
X-MICROSOFT-CDO-ALLDAYEVENT:FALSE
SUMMARY:WEBINAR: Teleconferencing and Remote Working
DESCRIPTION:Members\,\n\n\n\nWe are working to bring you as many resources as possible during this time of social distancing. \n\n\n\nWe are offering a short informational webinar on tools and resources to increase your ability to remote work\, or to offer teleconferencing and remote working at your office. \n\n\n\nRegister now to join the following webinar:\n\n\n\nTeleconferencing and Remote Working\n\nMon\, Mar 23\, 2020 10:00 AM - 10:45 AM (CDT)\n\n\n\nPlease join my meeting from your computer\, tablet or smartphone.  \n\nhttps://global.gotomeeting.com/join/117481997 \n\n\n\nYou can also dial in using your phone. \n\nUnited States: +1 (224) 501-3412 \n\n\n\nAccess Code: 117-481-997 \n\n\n\nNew to GoToMeeting? Get the app now and be ready when your first meeting starts:\n\nhttps://global.gotomeeting.com/install/117481997
X-ALT-DESC;FMTTYPE=text/html:Members\,<br />\n<br />\nWe are working to bring you as many resources as possible during this time of social distancing.&nbsp\;<br />\n<br />\nWe are offering a short informational webinar on tools and resources to increase your ability to remote work\, or to offer teleconferencing and remote working at your office.&nbsp\;<br />\n<br />\nRegister now to join the following webinar:<br />\n<br />\n<span><span class="inv-subject">Teleconferencing and Remote Working</span><br />\n<span class="inv-date">Mon\, Mar 23\, 2020 10:00 AM - 10:45 AM (CDT)</span><br />\n<br />\n<b><span>Please join my meeting from your computer\, tablet or smartphone. </span> </b><br />\n<span class="inv-meeting-url"><a href="https://global.gotomeeting.com/join/117481997" target="_blank">https://global.gotomeeting.com/join/117481997</a> </span><br />\n<br />\n<b><span>You can also dial in using your phone.</span> </b><br />\n<span>United States: <a href="tel:+12245013412\,\,117481997#">+1 (224) 501-3412</a> </span><br />\n<br />\n<span><b>Access Code:</b> <span>117-481-997</span> </span><br />\n<br />\n<span>New to GoToMeeting? Get the app now and be ready when your first meeting starts:<br />\n<a href="https://global.gotomeeting.com/install/117481997" target="_blank">https://global.gotomeeting.com/install/117481997</a> </span> </span><br />\n&nbsp\;
LOCATION:Online only
UID:e.1432.402797
SEQUENCE:3
DTSTAMP:20260419T233145Z
URL:http://business.etowahchamber.org/events/details/webinar-teleconferencing-and-remote-working-402797
END:VEVENT

END:VCALENDAR
