BEGIN:VCALENDAR
VERSION:2.0
PRODID:-//ChamberMaster//Event Calendar 2.0//EN
METHOD:PUBLISH
X-PUBLISHED-TTL:P3D
REFRESH-INTERVAL:P3D
CALSCALE:GREGORIAN
BEGIN:VEVENT
DTSTART:20200402T143000Z
DTEND:20200402T153000Z
X-MICROSOFT-CDO-ALLDAYEVENT:FALSE
SUMMARY:WEBINAR: The Coronavirus Aid\, Relief and Economic Security Act (CARES Act) and What It Means For My Business
DESCRIPTION:The United States Senate unanimously passed the CARES Act and the House of Representatives is expected to pass it today. Once signed in to law by the President\, it will provide economic relief to individuals and our nation's business community. This conference call will be led by federal business advocates who have been engaged with this particular legislative process. They will explain what's included in the CARES Act and what it means for your business.\n\nPresenters:\n\nMoore Hallmark   Southeast Region Executive Director\, United States Chamber of Commerce\n\nAllison Dembeck   Executive Director\, Congressional and Public Affairs\, United States Chamber of Commerce\n\nCall Number:    1-888-537-7715 or 1-334-323-9858\n\nCall Pin:            92072336#\n\n\n\nThis call provided by a partnership with The Chamber of West Alabama\, the Chamber of Commerce Association of Alabama and the US Chamber of Commerce.
X-ALT-DESC;FMTTYPE=text/html:<p style="margin: 1.4rem 0px\; font-family: Mukta\, sans-serif\; box-sizing: border-box\; color: rgb(87\, 87\, 87)\; font-size: 16px\; background-color: rgb(237\, 237\, 237)\;"><em style="box-sizing: border-box\;">The United States Senate unanimously passed the CARES Act and the House of Representatives is expected to pass it today. Once signed in to law by the President\, it will provide economic relief to individuals and our nation&rsquo\;s business community. This conference call will be led by federal business advocates who have been engaged with this particular legislative process. They will explain what&rsquo\;s included in the CARES Act and what it means for your business.</em></p>\n\n<p style="margin: 1.4rem 0px\; font-family: Mukta\, sans-serif\; box-sizing: border-box\; color: rgb(87\, 87\, 87)\; font-size: 16px\; background-color: rgb(237\, 237\, 237)\;">Presenters:<br style="box-sizing: border-box\;" />\nMoore Hallmark &ndash\; Southeast Region Executive Director\, United States Chamber of Commerce<br style="box-sizing: border-box\;" />\nAllison Dembeck &ndash\; Executive Director\, Congressional and Public Affairs\, United States Chamber of Commerce</p>\n\n<p style="margin: 1.4rem 0px\; font-family: Mukta\, sans-serif\; box-sizing: border-box\; color: rgb(87\, 87\, 87)\; font-size: 16px\; background-color: rgb(237\, 237\, 237)\;"><span style="font-weight: 700\; box-sizing: border-box\;">Call Number:&nbsp\;&nbsp\;&nbsp\;&nbsp\;1-888-537-7715&nbsp\;or 1-334-323-9858<br style="box-sizing: border-box\;" />\nCall Pin:&nbsp\;&nbsp\;&nbsp\;&nbsp\;&nbsp\;&nbsp\;&nbsp\;&nbsp\;&nbsp\;&nbsp\;&nbsp\;&nbsp\;92072336#<br />\n<br />\n<em><strong>This call provided by a&nbsp\;partnership with The Chamber of West Alabama\, the Chamber of Commerce Association of Alabama and the US Chamber of Commerce.&nbsp\;&nbsp\;</strong></em></span></p>\n
LOCATION:
UID:e.1432.402810
SEQUENCE:3
DTSTAMP:20260419T220357Z
URL:http://business.etowahchamber.org/events/details/webinar-the-coronavirus-aid-relief-and-economic-security-act-cares-act-and-what-it-means-for-my-business-402810
END:VEVENT

END:VCALENDAR
