BEGIN:VCALENDAR
VERSION:2.0
PRODID:-//ChamberMaster//Event Calendar 2.0//EN
METHOD:PUBLISH
X-PUBLISHED-TTL:P3D
REFRESH-INTERVAL:P3D
CALSCALE:GREGORIAN
BEGIN:VEVENT
DTSTART:20200422T223000Z
DTEND:20200422T233000Z
X-MICROSOFT-CDO-ALLDAYEVENT:FALSE
SUMMARY:WEBINAR: Yoga Aims Free Virtual Practice
DESCRIPTION:VIA ZOOM ONLY. April 22nd at 5:30 PM Central Time. Recommended for all levels. Highly recommended for beginners. A class designed for the rejuvenation of the physical body and mind. It has a slower and gentle pace\, almost self-massaging\, friendly to the joints. Poses are done safely\, focusing on body stretching and tension release from joints and muscles\, tension from the busy mind. Props like books\, folded blankets/towels can be used for safe practice. Zoom Meeting ID 732-935-296.
X-ALT-DESC;FMTTYPE=text/html:<span style="color: rgb(29\, 33\, 41)\; font-family: Helvetica\, Arial\, sans-serif\; font-size: 14px\; white-space: pre-wrap\;">VIA ZOOM ONLY. April 22nd at 5:30 PM Central Time. Recommended for all levels. Highly recommended for beginners. A class designed for the rejuvenation of the physical body and mind. It has a slower and gentle pace\, almost self-massaging\, friendly to the joints. Poses are done safely\, focusing on body stretching and tension release from joints and muscles\, tension from the busy mind. Props like books\, folded blankets/towels can be used for safe practice. Zoom Meeting ID 732-935-296.</span>
LOCATION:
UID:e.1432.402850
SEQUENCE:3
DTSTAMP:20260419T215914Z
URL:http://business.etowahchamber.org/events/details/webinar-yoga-aims-free-virtual-practice-402850
END:VEVENT

END:VCALENDAR
