BEGIN:VCALENDAR
VERSION:2.0
PRODID:-//ChamberMaster//Event Calendar 2.0//EN
METHOD:PUBLISH
X-PUBLISHED-TTL:P3D
REFRESH-INTERVAL:P3D
CALSCALE:GREGORIAN
BEGIN:VEVENT
DTSTART:20200904T120000Z
DTEND:20200904T180000Z
X-MICROSOFT-CDO-ALLDAYEVENT:FALSE
SUMMARY:Weekly Farmers Market at 5th Street Market
DESCRIPTION:Join us for a weekly fruit and veggie party. Come find local produce\, fruit\, meats\, cheese\, eggs\, honey\, jams and other handmade goods!\n\n\n\nMarket will open each Friday starting May 22\, 2020 \n\n8 a.m.- 1 p.m.\n\n\n\n~Shopping Manners\, Rules & Procedures~\n\n	ONE SHOPPER PER HOUSEHOLD\n	MAINTAIN 6 FEET APART OF SOCIAL DISTANCE\n	PLEASE USE OUR HAND WASHING STATIONS\, BE KIND and SANITIZE\n	DO NOT TOUCH ITEMS ON DISPLAY.\n	VENDORS WILL BAG YOUR ITEMS YOU HAVE SELECTED.\n	STAY AT HOME IF YOU ARE OR HAVE BEEN SICK\n	BE PATIENT\n	FOLLOW THE RULES
X-ALT-DESC;FMTTYPE=text/html:<span style="font-size:16px\;"><span style="font-family:arial\;"><span style="color: rgb(29\, 33\, 41)\; white-space: pre-wrap\;">Join us for a weekly fruit and veggie party. Come find local produce\, fruit\, meats\, cheese\, eggs\, honey\, jams and other handmade goods!</span><br style="color: rgb(29\, 33\, 41)\; font-family: Helvetica\, Arial\, sans-serif\; font-size: 14px\; white-space: pre-wrap\;" />\n<br style="color: rgb(29\, 33\, 41)\; font-family: Helvetica\, Arial\, sans-serif\; font-size: 14px\; white-space: pre-wrap\;" />\n<span style="color: rgb(29\, 33\, 41)\; white-space: pre-wrap\;">Market will open each Friday starting May 22\, 2020 </span><br style="color: rgb(29\, 33\, 41)\; font-family: Helvetica\, Arial\, sans-serif\; font-size: 14px\; white-space: pre-wrap\;" />\n<span style="color: rgb(29\, 33\, 41)\; white-space: pre-wrap\;">8 a.m.- 1 p.m.</span><br style="color: rgb(29\, 33\, 41)\; font-family: Helvetica\, Arial\, sans-serif\; font-size: 14px\; white-space: pre-wrap\;" />\n<br style="color: rgb(29\, 33\, 41)\; font-family: Helvetica\, Arial\, sans-serif\; font-size: 14px\; white-space: pre-wrap\;" />\n<strong><span style="color: rgb(29\, 33\, 41)\; white-space: pre-wrap\;">~Shopping Manners\, Rules &amp\; Procedures~</span></strong></span></span>\n<ul>\n	<li><span style="font-size:16px\;"><span style="font-family:arial\;"><span style="color: rgb(29\, 33\, 41)\; white-space: pre-wrap\;">ONE SHOPPER PER HOUSEHOLD</span></span></span></li>\n	<li><span style="font-size:16px\;"><span style="font-family:arial\;"><span style="color: rgb(29\, 33\, 41)\; white-space: pre-wrap\;"><span style="color: rgb(29\, 33\, 41)\; white-space: pre-wrap\;">MAINTAIN 6 FEET APART OF SOCIAL DISTANCE</span></span></span></span></li>\n	<li><span style="font-size:16px\;"><span style="font-family:arial\;"><span style="color: rgb(29\, 33\, 41)\; white-space: pre-wrap\;"><span style="color: rgb(29\, 33\, 41)\; white-space: pre-wrap\;"><span style="color: rgb(29\, 33\, 41)\; white-space: pre-wrap\;">PLEASE USE OUR HAND WASHING STATIONS\, BE KIND and SANITIZE</span></span></span></span></span></li>\n	<li><span style="font-size:16px\;"><span style="font-family:arial\;"><span style="color: rgb(29\, 33\, 41)\; white-space: pre-wrap\;"><span style="color: rgb(29\, 33\, 41)\; white-space: pre-wrap\;"><span style="color: rgb(29\, 33\, 41)\; white-space: pre-wrap\;"><span style="color: rgb(29\, 33\, 41)\; white-space: pre-wrap\;">DO NOT TOUCH ITEMS ON DISPLAY.</span></span></span></span></span></span></li>\n	<li><span style="font-size:16px\;"><span style="font-family:arial\;"><span style="color: rgb(29\, 33\, 41)\; white-space: pre-wrap\;"><span style="color: rgb(29\, 33\, 41)\; white-space: pre-wrap\;"><span style="color: rgb(29\, 33\, 41)\; white-space: pre-wrap\;"><span style="color: rgb(29\, 33\, 41)\; white-space: pre-wrap\;"><span style="color: rgb(29\, 33\, 41)\; white-space: pre-wrap\;">VENDORS WILL BAG YOUR ITEMS YOU HAVE SELECTED.</span></span></span></span></span></span></span></li>\n	<li><span style="font-size:16px\;"><span style="font-family:arial\;"><span style="color: rgb(29\, 33\, 41)\; white-space: pre-wrap\;"><span style="color: rgb(29\, 33\, 41)\; white-space: pre-wrap\;"><span style="color: rgb(29\, 33\, 41)\; white-space: pre-wrap\;"><span style="color: rgb(29\, 33\, 41)\; white-space: pre-wrap\;"><span style="color: rgb(29\, 33\, 41)\; white-space: pre-wrap\;"><span style="color: rgb(29\, 33\, 41)\; white-space: pre-wrap\;">STAY AT HOME IF YOU ARE OR HAVE BEEN SICK</span></span></span></span></span></span></span></span></li>\n	<li><span style="font-size:16px\;"><span style="font-family:arial\;"><span style="color: rgb(29\, 33\, 41)\; white-space: pre-wrap\;"><span style="color: rgb(29\, 33\, 41)\; white-space: pre-wrap\;"><span style="color: rgb(29\, 33\, 41)\; white-space: pre-wrap\;"><span style="color: rgb(29\, 33\, 41)\; white-space: pre-wrap\;"><span style="color: rgb(29\, 33\, 41)\; white-space: pre-wrap\;"><span style="color: rgb(29\, 33\, 41)\; white-space: pre-wrap\;"><span style="color: rgb(29\, 33\, 41)\; white-space: pre-wrap\;">BE PATIENT</span></span></span></span></span></span></span></span></span></li>\n	<li><span style="font-size:16px\;"><span style="font-family:arial\;"><span style="color: rgb(29\, 33\, 41)\; white-space: pre-wrap\;"><span style="color: rgb(29\, 33\, 41)\; white-space: pre-wrap\;"><span style="color: rgb(29\, 33\, 41)\; white-space: pre-wrap\;"><span style="color: rgb(29\, 33\, 41)\; white-space: pre-wrap\;"><span style="color: rgb(29\, 33\, 41)\; white-space: pre-wrap\;"><span style="color: rgb(29\, 33\, 41)\; white-space: pre-wrap\;"><span style="color: rgb(29\, 33\, 41)\; white-space: pre-wrap\;"><span style="font-size:16px\;"><span style="font-family:arial\;"><span style="color: rgb(29\, 33\, 41)\; white-space: pre-wrap\;">FOLLOW THE RULES</span></span></span></span></span></span></span></span></span></span></span></span></li>\n</ul>\n
LOCATION:5th Street Market
UID:e.1432.403136
SEQUENCE:3
DTSTAMP:20260419T154923Z
URL:http://business.etowahchamber.org/events/details/weekly-farmer-s-market-at-5th-street-market-09-04-2020-403136
END:VEVENT

END:VCALENDAR
