BEGIN:VCALENDAR
VERSION:2.0
PRODID:-//ChamberMaster//Event Calendar 2.0//EN
METHOD:PUBLISH
X-PUBLISHED-TTL:P3D
REFRESH-INTERVAL:P3D
CALSCALE:GREGORIAN
BEGIN:VEVENT
DTSTART:20140723T163000Z
DTEND:20140723T183000Z
X-MICROSOFT-CDO-ALLDAYEVENT:FALSE
SUMMARY:Who Do You Want Making Decisions for You? Empowering Tough Conversations for Families.
DESCRIPTION:A discussion about Power of Attorney/Advance Directives and other challenging topics.\n\n            (Albertville\, Ala.)  It is estimated that fewer than 25% of all Americans have completed advance directives that tell their family and physician what their wishes would be should they face a life-limiting illness.  Join us for lunch and discussion on this relevant topic.  The speakers\, local attorneys\, are Norma McCord Wells of Norma A. McCord\, LLC and Laura D. Givens of Givens Law Firm\, P.C.\n\n            The event\, hosted by the Planned Giving Council of Hospice of Marshall County\, will be held on Wednesday\, July 23rd from 11:30 to 1:30 p.m.\, at the Hospice of Marshall County Community Room located at 408 Martling Road in Albertville.  Free lunch for the first 50 people registered!  After the first 50 people\, the cost for the lunch is $5.  RSVP online http://empoweringtoughconversationsluncheon.eventbrite.com  or call Annah Grace Morgan at 256 891-7724.\n\n            Hospice of Marshall County is a regional\, non-profit\, United Way supported hospice.  For additional information on Hospice of Marshall County\, you may access our web site at www.hospicemc.org\, like us on Facebook at www.facebook.com/hospicemc and follow us on Twitter @HospiceMC.
X-ALT-DESC;FMTTYPE=text/html:<strong><em>A discussion about Power of Attorney/Advance Directives and other challenging topics.</em></strong><br />\n<strong>&nbsp\;&nbsp\;&nbsp\;&nbsp\;&nbsp\;&nbsp\;&nbsp\;&nbsp\;&nbsp\;&nbsp\;</strong>&nbsp\; (Albertville\, Ala.) &mdash\;It is estimated that fewer than 25% of all Americans have completed advance directives that tell their family and physician what their wishes would be should they face a life-limiting illness.&nbsp\; Join us for lunch and discussion on this relevant topic.&nbsp\; The speakers\, local attorneys\, are Norma McCord Wells of Norma A. McCord\, LLC and Laura D. Givens of Givens Law Firm\, P.C.<br />\n&nbsp\;&nbsp\;&nbsp\;&nbsp\;&nbsp\;&nbsp\;&nbsp\;&nbsp\;&nbsp\;&nbsp\;&nbsp\; The event\, hosted by the Planned Giving Council of Hospice of Marshall County\, will be held on Wednesday\, July 23<sup>rd</sup> from 11:30 to 1:30 p.m.\, at the Hospice of Marshall County Community Room located at 408 Martling Road in Albertville.&nbsp\; Free lunch for the first 50 people registered!&nbsp\; After the first 50 people\, the cost for the lunch is $5.&nbsp\; RSVP online <a href="http://empoweringtoughconversationsluncheon.eventbrite.com/">http://empoweringtoughconversationsluncheon.eventbrite.com</a> &nbsp\;or call Annah Grace Morgan at 256&#8209\;891-7724.<br />\n&nbsp\;&nbsp\;&nbsp\;&nbsp\;&nbsp\;&nbsp\;&nbsp\;&nbsp\;&nbsp\;&nbsp\;&nbsp\; Hospice of Marshall County is a regional\, non-profit\, United Way supported hospice.&nbsp\; For additional information on Hospice of Marshall County\, you may access our web site at www.hospicemc.org\, like us on Facebook at www.facebook.com/hospicemc and follow us on Twitter @HospiceMC.
LOCATION:Hospice of Marshall County Community Room 408 Martling Road Albertville\, AL
UID:e.1432.384853
SEQUENCE:3
DTSTAMP:20260422T171641Z
URL:http://business.etowahchamber.org/events/details/who-do-you-want-making-decisions-for-you-empowering-tough-conversations-for-families-07-23-2014-384853
END:VEVENT

END:VCALENDAR
