BEGIN:VCALENDAR
VERSION:2.0
PRODID:-//ChamberMaster//Event Calendar 2.0//EN
METHOD:PUBLISH
X-PUBLISHED-TTL:P3D
REFRESH-INTERVAL:P3D
CALSCALE:GREGORIAN
BEGIN:VEVENT
DTSTART:20120818T210000Z
DTEND:20120819T033000Z
X-MICROSOFT-CDO-ALLDAYEVENT:FALSE
SUMMARY:Willie's Woods "Giving Back Concert" 2012
DESCRIPTION:This is our annual benefit Concert for St. Jude Children's Research Hospital. If you've never been to this before\, you are missing out! Please join us in supporting this local family friendly event. Each year\,we feature both local\, and tri-state entertainment\, and this year is no different. Come join us\, bring you lawn chairs\,sit back\, and enjoy\, all in the name of St. Jude Children's Research Hospital.
X-ALT-DESC;FMTTYPE=text/html:This is our annual benefit Concert for St. Jude Children&#39\;s Research Hospital. If you&#39\;ve never been to this before\, you are missing out! Please join us&nbsp\;in&nbsp\;supporting this local family friendly event. Each year\,we&nbsp\;feature both local\, and tri-state&nbsp\;entertainment\, and&nbsp\;this year is no different. Come join us\, bring you lawn chairs\,sit back\, and enjoy\,&nbsp\;all in the name of St. Jude Children&#39\;s Research Hospital.<br />\n
LOCATION:199 Friendship Road Rainbow City\, AL 35906
UID:e.1432.381687
SEQUENCE:3
DTSTAMP:20260422T214938Z
URL:http://business.etowahchamber.org/events/details/willie-s-woods-giving-back-concert-2012-08-18-2012-381687
END:VEVENT

END:VCALENDAR
