BEGIN:VCALENDAR
VERSION:2.0
PRODID:-//ChamberMaster//Event Calendar 2.0//EN
METHOD:PUBLISH
X-PUBLISHED-TTL:P3D
REFRESH-INTERVAL:P3D
CALSCALE:GREGORIAN
BEGIN:VEVENT
DTSTART:20141004T170000Z
DTEND:20141004T210000Z
X-MICROSOFT-CDO-ALLDAYEVENT:FALSE
SUMMARY:Wills Creek Winery - Grape Stomp
DESCRIPTION:10th Anniversary of Wills Creek Winery's Grape stomping festival. Grape stomping set-up\, Hay rides\, Harvest demonstration\, Games\, Bouncy houses\, Face Painting\, Music\, Cheese plates\, hot dogs\, chicken fingers\, and platters available.
X-ALT-DESC;FMTTYPE=text/html:10th Anniversary of Wills Creek Winery&#39\;s Grape stomping festival. Grape stomping set-up\, Hay rides\, Harvest demonstration\, Games\, Bouncy houses\, Face Painting\, Music\, Cheese plates\, hot dogs\, chicken fingers\, and platters available.
LOCATION:Wills Creek Winery\, 10522 Duck Springs Road
UID:e.1432.384945
SEQUENCE:3
DTSTAMP:20260422T131620Z
URL:http://business.etowahchamber.org/events/details/wills-creek-winery-grape-stomp-10-04-2014-384945
END:VEVENT

END:VCALENDAR
