BEGIN:VCALENDAR
VERSION:2.0
PRODID:-//ChamberMaster//Event Calendar 2.0//EN
METHOD:PUBLISH
X-PUBLISHED-TTL:P3D
REFRESH-INTERVAL:P3D
CALSCALE:GREGORIAN
BEGIN:VEVENT
DTSTART:20120420T173000Z
DTEND:20120420T190000Z
X-MICROSOFT-CDO-ALLDAYEVENT:FALSE
SUMMARY:Women's Day for Girls at Striplin\, W.E.\, Elementary School
DESCRIPTION:Women's Day for Girls (Local females will come share about their chosen careers with our female students).
X-ALT-DESC;FMTTYPE=text/html:<span style="color: #008000"><strong>Women&#39\;s Day for Girls</strong></span> (Local females will come share about their chosen careers with our female students). 
LOCATION:W. E. Striplin Elementary
UID:e.1432.381171
SEQUENCE:3
DTSTAMP:20260422T165222Z
URL:http://business.etowahchamber.org/events/details/women-s-day-for-girls-at-striplin-w-e-elementary-school-04-20-2012-381171
END:VEVENT

END:VCALENDAR
