BEGIN:VCALENDAR
VERSION:2.0
PRODID:-//ChamberMaster//Event Calendar 2.0//EN
METHOD:PUBLISH
X-PUBLISHED-TTL:P3D
REFRESH-INTERVAL:P3D
CALSCALE:GREGORIAN
BEGIN:VEVENT
DTSTART:20200903T140000Z
DTEND:20200903T150000Z
X-MICROSOFT-CDO-ALLDAYEVENT:FALSE
SUMMARY:"Work From Home" Hybrid Job Fair with Gadsden Career Center
DESCRIPTION:Discover part-time work from home jobs\, W-2 and 1099 contract work also available! Join the Gadsden Career Center for a hybrid job fair.\n\n\n\nLocally:\n\nGadsden Career Center\n\n216 North 5th Street\n\nGadsden\, AL 35901\n\nRemotely:\n\nJoin Zoom Meeting | https://appen.zoom.us/j/95254891174\n\nMeeting ID: 952 5489 1174\n\nJoin by phone +13126266799\,\,95254891174#\n\n\n\nContact Information\n\nSheila Hand\, Local Veterans Employment Rep (256) 546-4667 ext. 85509\n\nsheila.hand@alcc.alabama.gov
X-ALT-DESC;FMTTYPE=text/html:<span style="font-size:16px\;"><span style="font-family:arial\;">Discover part-time work from home jobs\, W-2 and 1099 contract work also available! Join the Gadsden Career Center for a hybrid job fair.<br />\n<br />\n<strong><u>Locally:</u></strong><br />\nGadsden Career Center<br />\n216 North 5th Street<br />\nGadsden\, AL 35901<br />\n<strong><u>Remotely:</u></strong><br />\nJoin Zoom Meeting | <strong><a href="https://appen.zoom.us/j/95254891174"><span style="color:#0000FF\;">https://appen.zoom.us/j/95254891174</span></a></strong><br />\nMeeting ID: 952 5489 1174<br />\nJoin by phone +13126266799\,\,95254891174#<br />\n<br />\n<u><strong>Contact Information</strong></u><br />\nSheila Hand\, Local Veterans Employment Rep (256) 546-4667 ext. 85509<br />\n<strong><a href="mailto:sheila.hand@alcc.alabama.gov"><span style="color:#0000FF\;">sheila.hand@alcc.alabama.gov</span></a></strong></span></span>
LOCATION:Gadsden Career Center & via Zoom
UID:e.1432.403283
SEQUENCE:3
DTSTAMP:20260419T154153Z
URL:http://business.etowahchamber.org/events/details/work-from-home-hybrid-job-fair-with-gadsden-career-center-403283
END:VEVENT

END:VCALENDAR
