BEGIN:VCALENDAR
VERSION:2.0
PRODID:-//ChamberMaster//Event Calendar 2.0//EN
METHOD:PUBLISH
X-PUBLISHED-TTL:P3D
REFRESH-INTERVAL:P3D
CALSCALE:GREGORIAN
BEGIN:VEVENT
DTSTART;VALUE=DATE:20140807
DTEND;VALUE=DATE:20140811
TRANSP:TRANSPARENT
X-MICROSOFT-CDO-ALLDAYEVENT:TRUE
SUMMARY:World's Longest Yard Sale
DESCRIPTION:
X-ALT-DESC;FMTTYPE=text/html:
LOCATION:Noccalula Falls Park
UID:e.1432.384264
SEQUENCE:3
DTSTAMP:20260422T160210Z
URL:http://business.etowahchamber.org/events/details/world-s-longest-yard-sale-08-07-2014-384264
END:VEVENT

END:VCALENDAR
