BEGIN:VCALENDAR
VERSION:2.0
PRODID:-//ChamberMaster//Event Calendar 2.0//EN
METHOD:PUBLISH
X-PUBLISHED-TTL:P3D
REFRESH-INTERVAL:P3D
CALSCALE:GREGORIAN
BEGIN:VEVENT
DTSTART;VALUE=DATE:20180805
DTEND;VALUE=DATE:20180806
TRANSP:TRANSPARENT
X-MICROSOFT-CDO-ALLDAYEVENT:TRUE
SUMMARY:World's Longest Yard Sale 2018
DESCRIPTION:The 127 Yard Sale is commonly referred to as "The World's Longest Yard Sale". That's because it really is the longest yard sale in the world. To be exact\, it's 690 miles long and the route travels through 6 states\; Michigan\, Ohio\, Kentucky\, Tennessee\, Georgia\, and Alabama.\n\n\n\nClick Here for the route map!\n\n\n\nThe majority of the route follows Highway 127 from Addison\, MI in the north to Chattanooga\, TN in the south. From Lookout Mountain\, GA to Gadsden\, AL the route switches to Lookout Mountain Parkway.\n\n\n\nBoth are scenic drives allowing you to appreciate the beautiful countryside of these states all while enjoying the fun and excitement of The World's Longest Yard Sale.
X-ALT-DESC;FMTTYPE=text/html:<span style="font-size:16px\;"><span style="font-family:arial\;">The 127 Yard Sale is commonly referred to as &ldquo\;The World&#39\;s Longest Yard Sale&rdquo\;. That&rsquo\;s because it really is the longest yard sale in the world. To be exact\, it&rsquo\;s 690 miles long and the route travels through 6 states\; Michigan\, Ohio\, Kentucky\, Tennessee\, Georgia\, and Alabama.<br />\n<br />\n<strong><a href="http://www.127yardsale.com/route-map"><span style="color:#0000FF\;">Click Here</span></a></strong> for the route map!<br />\n<br />\nThe majority of the route follows Highway 127 from Addison\, MI in the north to Chattanooga\, TN in the south.&nbsp\;From Lookout Mountain\, GA to Gadsden\, AL the route switches&nbsp\;to&nbsp\;Lookout Mountain Parkway.<br />\n<br />\nBoth are scenic drives allowing you to appreciate the beautiful countryside of these states all while enjoying the fun and excitement of The World&rsquo\;s Longest Yard Sale.</span></span>
LOCATION:
UID:e.1432.397983
SEQUENCE:3
DTSTAMP:20260422T204648Z
URL:http://business.etowahchamber.org/events/details/world-s-longest-yard-sale-2018-08-05-2018-397983
END:VEVENT

END:VCALENDAR
