BEGIN:VCALENDAR
VERSION:2.0
PRODID:-//ChamberMaster//Event Calendar 2.0//EN
METHOD:PUBLISH
X-PUBLISHED-TTL:P3D
REFRESH-INTERVAL:P3D
CALSCALE:GREGORIAN
BEGIN:VEVENT
DTSTART;VALUE=DATE:20190803
DTEND;VALUE=DATE:20190804
TRANSP:TRANSPARENT
X-MICROSOFT-CDO-ALLDAYEVENT:TRUE
SUMMARY:World's Longest Yard Sale 2019
DESCRIPTION:The 127 Yard Sale is commonly referred to as "The World's Longest Yard Sale". That's because it really is the longest yard sale in the world. To be exact\, it's 690 miles long and the route travels through 6 states\; Michigan\, Ohio\, Kentucky\, Tennessee\, Georgia\, and Alabama. The majority of the route follows Highway 127 from Addison\, MI in the north to Chattanooga\, TN in the south.\n\n\n\nClick Here for a Route Map\n\n\n\nFrom Lookout Mountain\, GA to Gadsden\, AL the route switches to Lookout Mountain Parkway. Both are scenic drives allowing you to appreciate the beautiful countryside of these states all while enjoying the fun and excitement of The World's Longest Yard Sale.
X-ALT-DESC;FMTTYPE=text/html:<span style="font-size:16px\;"><span style="font-family:arial\;">The 127 Yard Sale is commonly referred to as &ldquo\;The World&#39\;s Longest Yard Sale&rdquo\;. That&rsquo\;s because it really is the longest yard sale in the world. To be exact\, it&rsquo\;s 690 miles long and the route travels through 6 states\; Michigan\, Ohio\, Kentucky\, Tennessee\, Georgia\, and Alabama. The majority of the route follows Highway 127 from Addison\, MI in the north to Chattanooga\, TN in the south.<br />\n<br />\n<strong><a href="http://www.127yardsale.com/route-map"><span style="color:#0000FF\;">Click Here for a Route Map</span></a></strong><br />\n<br />\nFrom Lookout Mountain\, GA to Gadsden\, AL the route switches&nbsp\;to&nbsp\;Lookout Mountain Parkway. Both are scenic drives allowing you to appreciate the beautiful countryside of these states all while enjoying the fun and excitement of The World&rsquo\;s Longest Yard Sale.</span></span>
LOCATION:
UID:e.1432.400952
SEQUENCE:3
DTSTAMP:20260422T053325Z
URL:http://business.etowahchamber.org/events/details/world-s-longest-yard-sale-2019-08-03-2019-400952
END:VEVENT

END:VCALENDAR
