BEGIN:VCALENDAR
VERSION:2.0
PRODID:-//ChamberMaster//Event Calendar 2.0//EN
METHOD:PUBLISH
X-PUBLISHED-TTL:P3D
REFRESH-INTERVAL:P3D
CALSCALE:GREGORIAN
BEGIN:VEVENT
DTSTART:20140520T133000Z
DTEND:20140520T170000Z
X-MICROSOFT-CDO-ALLDAYEVENT:FALSE
SUMMARY:Yearning To Earn?
DESCRIPTION:Join us for a complimentary gourmet breakfast and we'll\n\nshow you how you can earn lucrative referral rewards.\n\nWe have an aggressive program that offers you the\n\nopportunity to earn a tidy sum for each apartment home\n\nmove-in. And because the rewards are cumulative with each referral move-in\, the earning potential is significant. Help your clients make the move to the premier senior living community in the south\, Regency Pointe and satisfy your yearning!
X-ALT-DESC;FMTTYPE=text/html:Join us for a complimentary gourmet breakfast and we&rsquo\;ll<br />\nshow you how you can earn lucrative referral rewards.<br />\nWe have an aggressive program that offers you the<br />\nopportunity to earn a tidy sum for each apartment home<br />\nmove-in. And because the rewards are cumulative with each referral move-in\, the&nbsp\;earning potential is significant. Help your clients make the move to the premier&nbsp\;senior living community in the south\, Regency Pointe and satisfy your yearning!
LOCATION:Regency Pointe 510 East Grand Avenue Rainbow City\, AL 35906
UID:e.1432.384471
SEQUENCE:3
DTSTAMP:20260422T195048Z
URL:http://business.etowahchamber.org/events/details/yearning-to-earn-05-20-2014-384471
END:VEVENT

END:VCALENDAR
