BEGIN:VCALENDAR
VERSION:2.0
PRODID:-//ChamberMaster//Event Calendar 2.0//EN
METHOD:PUBLISH
X-PUBLISHED-TTL:P3D
REFRESH-INTERVAL:P3D
CALSCALE:GREGORIAN
BEGIN:VEVENT
DTSTART;VALUE=DATE:20130824
DTEND;VALUE=DATE:20130825
TRANSP:TRANSPARENT
X-MICROSOFT-CDO-ALLDAYEVENT:TRUE
SUMMARY:Yellow Jacket Booster Club's Yellow Jacket Classic
DESCRIPTION:The Yellow Jacket Classic is a bass tournament benefitting the Glencoe Marching Band and their trip to play in the halftime performance in the Sugarbowl! We will be represnting Glencoe\, Etowah County\, and North Alabama. The tournament will be a day of relaxed fishing\, good food provided by Jacks\, Local Joes\, and Cravings\, and some great door prizes including two race tickets for the fall race at Talladega! Guaranteed payouts with first prize at $1\,000.00!
X-ALT-DESC;FMTTYPE=text/html:The Yellow Jacket Classic is a bass tournament benefitting the Glencoe Marching Band and their trip to play in the halftime performance in the Sugarbowl! We will be represnting Glencoe\, Etowah County\, and North Alabama. The tournament will be a day of relaxed fishing\, good food provided by Jacks\, Local Joes\, and Cravings\, and some great door prizes including two race tickets for the fall race at Talladega! Guaranteed payouts with first prize at $1\,000.00!
LOCATION:Coosa Landing (City Boat Ramp)
UID:e.1432.383939
SEQUENCE:3
DTSTAMP:20260423T075516Z
URL:http://business.etowahchamber.org/events/details/yellow-jacket-booster-club-s-yellow-jacket-classic-08-24-2013-383939
END:VEVENT

END:VCALENDAR
