BEGIN:VCALENDAR
VERSION:2.0
PRODID:-//ChamberMaster//Event Calendar 2.0//EN
METHOD:PUBLISH
X-PUBLISHED-TTL:P3D
REFRESH-INTERVAL:P3D
CALSCALE:GREGORIAN
BEGIN:VEVENT
DTSTART:20120724T140000Z
DTEND:20120724T160000Z
X-MICROSOFT-CDO-ALLDAYEVENT:FALSE
SUMMARY:YLS Born Learning Trail Ribbon Cutting
DESCRIPTION:Please join United Way of Etowah County's Young Leader's Society\, Success by Six\, The Chamber and the City of Rainbow City in unveiling the county's first Born Learning Trail on Tuesday\, July 24 at 9 a.m. at the Rainbow City Park located on Park Lane (just off of Hwy 77).\n\n\n\nUnited Way will present a program. Refreshments will be served.
X-ALT-DESC;FMTTYPE=text/html:Please join United Way of Etowah County&#39\;s Young Leader&#39\;s Society\, Success by Six\, The Chamber and the City of Rainbow City in unveiling the county&#39\;s first Born Learning Trail on Tuesday\, July 24 at 9 a.m. at the Rainbow City Park located on Park Lane (just off of Hwy 77).<br />\n<br />\nUnited Way will present a program. Refreshments will be served. 
LOCATION:Rainbow City Park Park Lane\, Rainbow City Just off of Highway 77
UID:e.1432.381548
SEQUENCE:3
DTSTAMP:20260422T214901Z
URL:http://business.etowahchamber.org/events/details/yls-born-learning-trail-ribbon-cutting-07-24-2012-381548
END:VEVENT

END:VCALENDAR
