BEGIN:VCALENDAR
VERSION:2.0
PRODID:-//ChamberMaster//Event Calendar 2.0//EN
METHOD:PUBLISH
X-PUBLISHED-TTL:P3D
REFRESH-INTERVAL:P3D
CALSCALE:GREGORIAN
BEGIN:VEVENT
DTSTART;VALUE=DATE:20120816
DTEND;VALUE=DATE:20120817
TRANSP:TRANSPARENT
X-MICROSOFT-CDO-ALLDAYEVENT:TRUE
SUMMARY:Yogurtime Back to school treat
DESCRIPTION:We are having a back to school special during our regular business hours on Thursday\, August 16\, 2012. \n\n\n\nWith the purchase of a $5 or more adult size yogurt\, a child 10 or younger will get a kids cup FREE. That's right FREE. \n\n\n\nCome in and give you child a treat before school starts. \n\nWe will also have our back to school cookies in stock. \n\n\n\nCannot be used with any other discounts or offers.
X-ALT-DESC;FMTTYPE=text/html:<span class="Apple-style-span" style="line-height: 14px\; border-collapse: collapse\; font-family: 'lucida grande'\, tahoma\, verdana\, arial\, sans-serif\; color: rgb(51\,51\,51)\; font-size: 11px">We are having a back to school special during our regular business hours on Thursday\, August 16\, 2012.&nbsp\;<br />\n<br />\nWith the purchase of a $5 or more adult size yogurt\, a child 10 or younger will get a kids cup FREE. That&#39\;s right FREE.&nbsp\;<br />\n<br />\nCome in and give you child a treat before school starts.&nbsp\;<br />\nWe will also have our back to school cookies in stock.&nbsp\;<br />\n<br />\nCannot be used with any other discounts or offers.</span>
LOCATION:It's Yogurtime - on Rainbow Drive
UID:e.1432.381901
SEQUENCE:3
DTSTAMP:20260422T215903Z
URL:http://business.etowahchamber.org/events/details/yogurtime-back-to-school-treat-08-16-2012-381901
END:VEVENT

END:VCALENDAR
