BEGIN:VCALENDAR
VERSION:2.0
PRODID:-//ChamberMaster//Event Calendar 2.0//EN
METHOD:PUBLISH
X-PUBLISHED-TTL:P3D
REFRESH-INTERVAL:P3D
CALSCALE:GREGORIAN
BEGIN:VEVENT
DTSTART;VALUE=DATE:20141022
DTEND;VALUE=DATE:20141023
TRANSP:TRANSPARENT
X-MICROSOFT-CDO-ALLDAYEVENT:TRUE
SUMMARY:Zerbini Circus
DESCRIPTION:
X-ALT-DESC;FMTTYPE=text/html:
LOCATION:Etowah County Fairgrounds
UID:e.1432.384693
SEQUENCE:3
DTSTAMP:20260422T132053Z
URL:http://business.etowahchamber.org/events/details/zerbini-circus-10-22-2014-384693
END:VEVENT

END:VCALENDAR
